BEGIN:VCALENDAR
VERSION:2.0
PRODID:-//Plone.org//NONSGML plone.app.event//EN
X-WR-TIMEZONE:Europe/Berlin
BEGIN:VEVENT
SUMMARY:11. Österreichischer Primärversorgungskongress
DTSTART;VALUE=DATE:20260924
DTEND;VALUE=DATE:20260927
DTSTAMP;VALUE=DATE-TIME:20260425T130537Z
UID:52a1b55a9e7d45b4be3ec63b7de8521a@127.0.0.1:8201
CONTACT:info@pv-kongress.at\, info@pv-kongress.at\, https://www.pv-kongres
 s.at/
CREATED;VALUE=DATE-TIME:20251217T092134Z
DESCRIPTION:Motto: Wissen wirkt\, Praxis lebt: Forschung und Lehre in der 
 Primärversorgung
LAST-MODIFIED;VALUE=DATE-TIME:20260408T131640Z
LOCATION:Graz
URL:https://www.ebm-netzwerk.de/de/veranstaltungen/termine/11-oesterreichi
 scher-primaerversorgungskongress
END:VEVENT
END:VCALENDAR
