BEGIN:VCALENDAR
VERSION:2.0
PRODID:-//Plone.org//NONSGML plone.app.event//EN
X-WR-TIMEZONE:Europe/Berlin
BEGIN:VEVENT
SUMMARY:16. Summerschool der Deutschen Gesellschaft für Rehabilitationswi
 ssenschaften 2023
DTSTART;VALUE=DATE:20230925
DTEND;VALUE=DATE:20230930
DTSTAMP;VALUE=DATE-TIME:20260421T111937Z
UID:a95d7ea96ae84f14874104797fe88ebc@127.0.0.1:8202
CONTACT:Tobias Knoop\, dgrw@medizin.uni-halle.de\, https://www.dgrw-online
 .de/summerschool-2023/
CREATED;VALUE=DATE-TIME:20230104T004117Z
DESCRIPTION:Die 16. Summerschool wird von der Arbeitsgemeinschaft Methoden
  der DGRW e.V. in Kooperation mit dem Arbeitsbereich Medizinische Psycholo
 gie und Psychotherapie im Zentrum für psychische Gesundheit (ZEP) der Uni
 versität und des Universitätsklinikums Würzburg veranstaltet.
LAST-MODIFIED;VALUE=DATE-TIME:20230104T004704Z
LOCATION:Würzburg
URL:https://www.ebm-netzwerk.de/de/veranstaltungen/termine/16-summerschool
 -dgrw-2023
END:VEVENT
END:VCALENDAR
