BEGIN:VCALENDAR
VERSION:2.0
PRODID:-//Plone.org//NONSGML plone.app.event//EN
X-WR-TIMEZONE:Europe/Berlin
BEGIN:VEVENT
SUMMARY:26. Lübecker Aufbaukurs „Evidenzbasierte Medizin“ (EbM)
DTSTART;VALUE=DATE:20260831
DTEND;VALUE=DATE:20260905
DTSTAMP;VALUE=DATE-TIME:20260422T131253Z
UID:0faad962c2f741c587a9bed989059d91@127.0.0.1:8201
CONTACT:Sebastian Rölle\, 0451 500 51201\, Sebastian.Roelle@uksh.de\, htt
 ps://ebm-kurs.de/kursangebote/ebm-aufbaukurs/
CREATED;VALUE=DATE-TIME:20230216T201901Z
DESCRIPTION:Aufbaukurs Evidenzbasierte Medizin
LAST-MODIFIED;VALUE=DATE-TIME:20260219T165419Z
LOCATION:Lübeck
URL:https://www.ebm-netzwerk.de/de/veranstaltungen/termine/26-luebecker-au
 fbaukurs-ebm
END:VEVENT
END:VCALENDAR
