BEGIN:VCALENDAR
VERSION:2.0
PRODID:-//Plone.org//NONSGML plone.app.event//EN
X-WR-TIMEZONE:Europe/Berlin
BEGIN:VEVENT
SUMMARY:59. Kongress für Allgemeinmedizin und Familienmedizin
DTSTART;TZID=Europe/Berlin;VALUE=DATE-TIME:20251001T090000
DTEND;TZID=Europe/Berlin;VALUE=DATE-TIME:20251003T100000
DTSTAMP;VALUE=DATE-TIME:20260424T191952Z
UID:180707fc39304d2f9a7cbf330addb830@127.0.0.1:8202
CONTACT:DEGAM-Kongress2025@mh-hannover.de\, DEGAM-Kongress2025@mh-hannover
 .de\, https://degam-kongress.de/2025/
CREATED;VALUE=DATE-TIME:20250314T082428Z
DESCRIPTION:Kongressthema: Gesellschaft und Gesundheitssystem im Wandel 
 – Perspektiven der Allgemeinmedizin
LAST-MODIFIED;VALUE=DATE-TIME:20250317T101041Z
LOCATION:Hannover
URL:https://www.ebm-netzwerk.de/de/veranstaltungen/termine/59-degam-kongre
 ss
END:VEVENT
BEGIN:VTIMEZONE
TZID:Europe/Berlin
X-LIC-LOCATION:Europe/Berlin
BEGIN:DAYLIGHT
DTSTART;VALUE=DATE-TIME:20250330T030000
TZNAME:CEST
TZOFFSETFROM:+0100
TZOFFSETTO:+0200
END:DAYLIGHT
END:VTIMEZONE
END:VCALENDAR
