BEGIN:VCALENDAR
VERSION:2.0
PRODID:-//Plone.org//NONSGML plone.app.event//EN
X-WR-TIMEZONE:Europe/Berlin
BEGIN:VEVENT
SUMMARY:6. European Summer School in Evidence-Based Public Health 2026
DTSTART;VALUE=DATE:20260720
DTEND;VALUE=DATE:20260725
DTSTAMP;VALUE=DATE-TIME:20260422T150636Z
UID:5ed5da67061b4371a8e6dc1197185843@127.0.0.1:8201
CONTACT:ebphsummerschool@ibe.med.uni-muenchen.de\, ebphsummerschool@ibe.me
 d.uni-muenchen.de\, https://ihrs-en.ibe.med.uni-muenchen.de/events/ebph-su
 mmer-school/index.html
CREATED;VALUE=DATE-TIME:20260219T210601Z
DESCRIPTION:Hosted by the Pettenkofer School of Public Health
LAST-MODIFIED;VALUE=DATE-TIME:20260219T210633Z
LOCATION:München
URL:https://www.ebm-netzwerk.de/de/veranstaltungen/termine/6-european-summ
 er-school-ebph-2026
END:VEVENT
END:VCALENDAR
