BEGIN:VCALENDAR
VERSION:2.0
PRODID:-//Plone.org//NONSGML plone.app.event//EN
X-WR-TIMEZONE:Europe/Berlin
BEGIN:VEVENT
SUMMARY:7. Kurs Systematische Reviews und weitere Evidenzsynthesen
DTSTART;VALUE=DATE:20260831
DTEND;VALUE=DATE:20260905
DTSTAMP;VALUE=DATE-TIME:20260423T182009Z
UID:553a19763bbc4dcebde289912346042d@127.0.0.1:8202
CONTACT:Sebastian Rölle\, 0451 500 51201\, Sebastian.Roelle@uksh.de\, htt
 ps://ebm-kurs.de/kursangebote/ebm-kurs-systematische-reviews/
CREATED;VALUE=DATE-TIME:20230216T201901Z
DESCRIPTION:Kursleitung: Dr. Maria Noftz\, Prof. Dr. Alexander Katalinic\,
  Institut für Sozialmedizin und Epidemiologie\, Universität zu Lübeck
LAST-MODIFIED;VALUE=DATE-TIME:20260220T081845Z
LOCATION:Lübeck
URL:https://www.ebm-netzwerk.de/de/veranstaltungen/termine/7-systematische
 -reviews-2026
END:VEVENT
END:VCALENDAR
