BEGIN:VCALENDAR
VERSION:2.0
PRODID:-//Plone.org//NONSGML plone.app.event//EN
X-WR-TIMEZONE:Europe/Berlin
BEGIN:VEVENT
SUMMARY:8. Berlin Summerschool Integrative Medizin
DTSTART;VALUE=DATE:20260903
DTEND;VALUE=DATE:20260906
DTSTAMP;VALUE=DATE-TIME:20260423T171647Z
UID:8c5bdae548374dcfbda0968dd07a17ae@127.0.0.1:8201
CONTACT:integrative-medizin@charite.de\, integrative-medizin@charite.de\, 
 https://ccctim.charite.de/summerschool
CREATED;VALUE=DATE-TIME:20260423T104941Z
DESCRIPTION:Die Berlin Summerschool für Integrative Medizin bietet Ärzt:
 innen\, Pflegepersonal\, Fachangestellten im Bereich der Gesundheitsförde
 rung und Studierenden einen Einblick in Therapien aus dem Spektrum der Int
 egrativen Medizin\, mit besonderem Fokus auf die Vermittlung praxisrelevan
 ter Erfahrungen. In verschiedenen Formaten stellen erfahrene Referent:inne
 n den aktuellen Stand der Wissenschaft dar und diskutieren diesen kritisch
  hinsichtlich ihrer Evidenz im Kontext der Integrativen Medizin.
LAST-MODIFIED;VALUE=DATE-TIME:20260423T125756Z
LOCATION:Berlin
URL:https://www.ebm-netzwerk.de/de/veranstaltungen/termine/8-berlin-summer
 school-integrative-medizin
END:VEVENT
END:VCALENDAR
