BEGIN:VCALENDAR
VERSION:2.0
PRODID:-//Plone.org//NONSGML plone.app.event//EN
X-WR-TIMEZONE:Europe/Berlin
BEGIN:VEVENT
SUMMARY:Autumn School in Clinical Epidemiology
DTSTART;VALUE=DATE:20210913
DTEND;VALUE=DATE:20210918
DTSTAMP;VALUE=DATE-TIME:20260421T172839Z
UID:4c92e0694c6c42c5b6691a717356ed4a@127.0.0.1:8202
CONTACT:Ass.-Prof. Priv.-Doz. Mag. Dr. Ursula Rochau\, +43 50-8648-4008\, 
 ursula.rochau@umit.at\, https://www.umit-tirol.at/page.cfm?vpath=departmen
 ts/public_health/htads-continuing-education-program/winter-school-in-biost
 atistics--epidemiology
CREATED;VALUE=DATE-TIME:20210414T170612Z
DESCRIPTION:5-Day Certified University Course
LAST-MODIFIED;VALUE=DATE-TIME:20210902T091218Z
LOCATION:Online
URL:https://www.ebm-netzwerk.de/de/veranstaltungen/termine/autumn-school-i
 n-clinical-epidemiology
END:VEVENT
END:VCALENDAR
