BEGIN:VCALENDAR
VERSION:2.0
PRODID:-//Plone.org//NONSGML plone.app.event//EN
X-WR-TIMEZONE:Europe/Berlin
BEGIN:VEVENT
SUMMARY:Kritische Bewertung qualitativer Studien mit CAMELOT
DTSTART;VALUE=DATE:20260428
DTEND;VALUE=DATE:20260529
DTSTAMP;VALUE=DATE-TIME:20260423T134758Z
UID:1fb3193ad1d94a918c989fda5ebea1e1@127.0.0.1:8201
CONTACT:Sandra Hummel\, 0043 2732 893 2916\, Sandra.Hummel@donau-uni.ac.at
 \, https://www.donau-uni.ac.at/de/studium/camelot-online.html#%C3%9Cberbli
 ck
CREATED;VALUE=DATE-TIME:20251128T061625Z
DESCRIPTION:In diesem Workshop lernen die Teilnehmer_innen CAMELOT (Cochra
 ne qualitative Methodological Limitations Assessment Tool) kennen - ein In
 strument zur kritischen Bewertung qualitativer Primärforschung\, entwicke
 lt zur Einschätzung des Vertrauens in die Evidenz.
LAST-MODIFIED;VALUE=DATE-TIME:20251128T064718Z
LOCATION:Online
URL:https://www.ebm-netzwerk.de/de/veranstaltungen/termine/camelot
END:VEVENT
END:VCALENDAR
