BEGIN:VCALENDAR
VERSION:2.0
PRODID:-//Plone.org//NONSGML plone.app.event//EN
X-WR-TIMEZONE:Europe/Berlin
BEGIN:VEVENT
SUMMARY:Cochrane Reviews - Basiskurs für Autoren
DTSTART;VALUE=DATE:20200309
DTEND;VALUE=DATE:20200312
DTSTAMP;VALUE=DATE-TIME:20260425T041249Z
UID:a860427b5c1c4792aed391c92025f64d@127.0.0.1:8201
ATTENDEE;CN="Sie haben mit der Erstellung eines Cochrane Reviews bereits b
 egonnen bzw. sind daran interessiert ein Cochrane-Review als Autor zu verf
 assen und haben bereits Kontakt mit einer Review-Gruppe aufgenommen. ";ROL
 E=REQ-PARTICIPANT:Sie haben mit der Erstellung eines Cochrane Reviews bere
 its begonnen bzw. sind daran interessiert ein Cochrane-Review als Autor zu
  verfassen und haben bereits Kontakt mit einer Review-Gruppe aufgenommen. 
CONTACT:workshops@cochrane.de\, https://www.cochrane.de/de/veranstaltungen
 #BASISKURS
CREATED;VALUE=DATE-TIME:20200117T150557Z
DESCRIPTION:Grundkenntnisse & Fertigkeiten zur Erstellung eines Cochrane R
 eviews
LAST-MODIFIED;VALUE=DATE-TIME:20200117T150808Z
LOCATION:Freiburg (i. Br.)
URL:https://www.ebm-netzwerk.de/de/veranstaltungen/termine/cochrane-review
 s-basiskurs-fuer-autoren
END:VEVENT
END:VCALENDAR
