BEGIN:VCALENDAR
VERSION:2.0
PRODID:-//Plone.org//NONSGML plone.app.event//EN
X-WR-TIMEZONE:Europe/Berlin
BEGIN:VEVENT
SUMMARY:Systematische Literaturrecherche - Suchstrategien für Expert*inne
 n
DTSTART;VALUE=DATE:20211028
DTEND;VALUE=DATE:20211102
DTSTAMP;VALUE=DATE-TIME:20260420T142241Z
UID:97d178cd37e54ede96c84669453d1cff@127.0.0.1:8201
CONTACT:workshops@cochrane.de\, https://www.cochrane.de/de/workshops-event
 s/workshops/suchstrategien-fuer-fortgeschrittene
CREATED;VALUE=DATE-TIME:20210708T164930Z
DESCRIPTION:für systematische Übersichtsarbeiten\, Entwicklung von HTAs 
 & Leitlinien - Online-Workshop an 4 halben Tagen: 28.-29.10.2021 & 04.-05.
 11.2021
LAST-MODIFIED;VALUE=DATE-TIME:20211027T072123Z
LOCATION:Online-Workshop an 4 halben Tagen
URL:https://www.ebm-netzwerk.de/de/veranstaltungen/termine/cochrane-system
 atische-literaturrecherche-2021
END:VEVENT
END:VCALENDAR
