BEGIN:VCALENDAR
VERSION:2.0
PRODID:-//Plone.org//NONSGML plone.app.event//EN
X-WR-TIMEZONE:Europe/Berlin
BEGIN:VEVENT
SUMMARY:EbM-Forum: Wie kann die Evidenz zum Mammographie-Screening verbess
 ert werden?
DTSTART;TZID=Europe/Berlin;VALUE=DATE-TIME:20260429T173000
DTEND;TZID=Europe/Berlin;VALUE=DATE-TIME:20260429T190000
DTSTAMP;VALUE=DATE-TIME:20260419T203204Z
UID:dbc176ee254747cda50c48fc797441a6@127.0.0.1:8202
CONTACT:Geschäftsstelle des EbM-Netzwerks\, 030-30833660\, kontakt@ebm-ne
 tzwerk.de\, https://www.ebm-netzwerk.de/de/veroeffentlichungen/nachrichten
 /ebm-forum-mammographie-screening
CREATED;VALUE=DATE-TIME:20260329T144117Z
DESCRIPTION:Am 29. April 2026 von 17:30 bis 19:00 Uhr veranstaltet das Net
 zwerk Evidenzbasierte Medizin e.V. (EbM-Netzwerk) ein weiteres EbM-Forum i
 m Online-Format. Unter dem Titel „Bewertung des Nutzens und Schadens von
  Krebsfrüherkennungsprogrammen: Perspektiven für das Mammographie-Screen
 ing“ widmet sich die Veranstaltung der Frage\, wie belastbarere Erkenntn
 isse zu Nutzen und Schaden erreicht werden können.
LAST-MODIFIED;VALUE=DATE-TIME:20260330T074646Z
LOCATION:Zoom
URL:https://www.ebm-netzwerk.de/de/veranstaltungen/termine/ebm-forum-mammo
 graphie-screening
END:VEVENT
BEGIN:VTIMEZONE
TZID:Europe/Berlin
X-LIC-LOCATION:Europe/Berlin
BEGIN:DAYLIGHT
DTSTART;VALUE=DATE-TIME:20260329T030000
TZNAME:CEST
TZOFFSETFROM:+0100
TZOFFSETTO:+0200
END:DAYLIGHT
END:VTIMEZONE
END:VCALENDAR
