BEGIN:VCALENDAR
VERSION:2.0
PRODID:-//Plone.org//NONSGML plone.app.event//EN
X-WR-TIMEZONE:Europe/Berlin
BEGIN:VEVENT
SUMMARY:Evidenzbasierte Gesundheitskommunikation und Vertrauen - Lehren au
 s der Corona-Pandemie
DTSTART;VALUE=DATE:20231122
DTEND;VALUE=DATE:20231123
DTSTAMP;VALUE=DATE-TIME:20260420T144058Z
UID:82b88d34c5ba4cceabd34d2e28b8affa@127.0.0.1:8202
ATTENDEE;CN="Ärztinnen und Ärzte, Mitarbeiterinnen und Mitarbeiter von I
 nstitutionen der Gesundheitskommunikation, Vertreterinnen und Vertreter au
 s den Bereichen Public Health, Kommunikationswissenschaft, Psychologie, So
 ziologie, Wissenschaftstheorie und Medizinethik und alle anderen, die wiss
 enschaftlich oder praktisch mit dem Thema befasst sind";ROLE=REQ-PARTICIPA
 NT:Ärztinnen und Ärzte, Mitarbeiterinnen und Mitarbeiter von Institution
 en der Gesundheitskommunikation, Vertreterinnen und Vertreter aus den Bere
 ichen Public Health, Kommunikationswissenschaft, Psychologie, Soziologie, 
 Wissenschaftstheorie und Medizinethik und alle anderen, die wissenschaftli
 ch oder praktisch mit dem Thema befasst sind
CONTACT:Ruth Denkhaus Mag. Theol.\, ruth.denkhaus@evlka.de\, https://www.z
 fg-hannover.de/Kurse--Tagungen-und-Angebote-ZfG/tagungen-Workshops/2023112
 2-denkhaus-evidenzbasierte-gesundheitskommunikation-und-Vertrauen
CREATED;VALUE=DATE-TIME:20231009T131808Z
DESCRIPTION:Tagung des Zentrums für Gesundheitsethik (ZfG) an der Ev. Aka
 demie Loccum in Kooperation mit dem Institut für Ethik\, Geschichte und P
 hilosophie\nder Medizin der Medizinischen Hochschule Hannover und dem Inst
 itut für Publizistik der Johannes Gutenberg-Universität Mainz
LAST-MODIFIED;VALUE=DATE-TIME:20231120T141827Z
LOCATION:Hannover
URL:https://www.ebm-netzwerk.de/de/veranstaltungen/termine/evidenzbasierte
 -gesundheitskommunikation
END:VEVENT
END:VCALENDAR
