BEGIN:VCALENDAR
VERSION:2.0
PRODID:-//Plone.org//NONSGML plone.app.event//EN
X-WR-TIMEZONE:Europe/Berlin
BEGIN:VEVENT
SUMMARY:Evidenzbasierte Pflegepraxis – Einführungskurs
DTSTART;VALUE=DATE:20240610
DTEND;VALUE=DATE:20240614
DTSTAMP;VALUE=DATE-TIME:20260422T105955Z
UID:f1ac77b4dd2a4377b2e5ca025d60bb4f@127.0.0.1:8201
CONTACT:Sandra Hummel\, +43 2732 893-2916\, Sandra.Hummel@donau-uni.ac.at\
 , https://www.donau-uni.ac.at/de/studium/evidenzbasierte-pflegepraxis.html
CREATED;VALUE=DATE-TIME:20231120T094747Z
DESCRIPTION:Workshop für Gesundheits- und Krankenpflegepersonen sowie Pfl
 egefachfrauen /-männer mit / ohne akademischer Vorbildung\, EbN/EbM-Beauf
 tragte in Gesundheitseinrichtungen und andere Gesundheitsberufe.
LAST-MODIFIED;VALUE=DATE-TIME:20240323T060245Z
LOCATION:Universität für Weiterbildung Krems\, Österreich
URL:https://www.ebm-netzwerk.de/de/veranstaltungen/termine/evidenzbasierte
 -pflegepraxis-1
END:VEVENT
END:VCALENDAR
