BEGIN:VCALENDAR
VERSION:2.0
PRODID:-//Plone.org//NONSGML plone.app.event//EN
X-WR-TIMEZONE:Europe/Berlin
BEGIN:VEVENT
SUMMARY:Evidenzbasierte Pflegepraxis (Einführungskurs)
DTSTART;VALUE=DATE:20230626
DTEND;VALUE=DATE:20230630
DTSTAMP;VALUE=DATE-TIME:20260420T083849Z
UID:d7f75f29015d4dd19ca5a1c7e9abfec8@127.0.0.1:8202
CONTACT:Sandra Hummel\, +43 2732 893-2916\, sandra.hummel@donau-uni.ac.at\
 , https://www.donau-uni.ac.at/de/studium/evidenzbasierte-pflegepraxis.html
CREATED;VALUE=DATE-TIME:20220113T104546Z
DESCRIPTION:In diesem Workshop lernen die Teilnehmer*innen die Methode der
  Evidenzbasierten Pflegepraxis kennen: das Übersetzen einer Problemstellu
 ng aus der Praxis in eine gute Forschungsfrage\, das systematische Suchen 
 von Studien und Übersichtsarbeiten im Internet und in Fachdatenbanken\, d
 ie kritische Beurteilung von ausgewählten Forschungsarbeiten\, sowie die 
 Interpretation der Studienergebnisse und deren Übertragung zurück in die
  Praxis.
LAST-MODIFIED;VALUE=DATE-TIME:20230216T225840Z
LOCATION:Universität für Weiterbildung Krems
URL:https://www.ebm-netzwerk.de/de/veranstaltungen/termine/evidenzbasierte
 -pflegepraxis-einfuehrung-2023
END:VEVENT
END:VCALENDAR
