BEGIN:VCALENDAR
VERSION:2.0
PRODID:-//Plone.org//NONSGML plone.app.event//EN
X-WR-TIMEZONE:Europe/Berlin
BEGIN:VEVENT
SUMMARY:GRADE
DTSTART;VALUE=DATE:20261202
DTEND;VALUE=DATE:20261205
DTSTAMP;VALUE=DATE-TIME:20260423T181615Z
UID:452c1fe02891442d96c5e1e8b5ed1feb@127.0.0.1:8201
CONTACT:workshops@cochrane.de\, workshops@cochrane.de\, https://app.guesto
 o.de/public/event/356b4bd0-08ab-404d-9f77-19180b101ed3?lang=de
CREATED;VALUE=DATE-TIME:20240722T150105Z
DESCRIPTION:Die Vertrauenswürdigkeit der Evidenz bewerten
LAST-MODIFIED;VALUE=DATE-TIME:20250927T161206Z
LOCATION:Online-Workshop an 3 halben Tagen
URL:https://www.ebm-netzwerk.de/de/veranstaltungen/termine/grade-2026
END:VEVENT
END:VCALENDAR
