BEGIN:VCALENDAR
VERSION:2.0
PRODID:-//Plone.org//NONSGML plone.app.event//EN
X-WR-TIMEZONE:Europe/Berlin
BEGIN:VEVENT
SUMMARY:Information Retrieval Meeting (IRM) 2026
DTSTART;VALUE=DATE:20260424
DTEND;VALUE=DATE:20260425
DTSTAMP;VALUE=DATE-TIME:20260420T190211Z
UID:d66f8b70fe9b442da91f9f1945a83337@127.0.0.1:8201
CONTACT:IRM@iqwig.de\, IRM@iqwig.de\, https://www.iqwig.de/veranstaltungen
 /information-retrieval-meeting/
CREATED;VALUE=DATE-TIME:20251023T173852Z
DESCRIPTION:Thema der englischsprachigen Veranstaltung ist „Let’s star
 t with AI! How and where can large language models be implemented for day-
 to-day information retrieval?“
LAST-MODIFIED;VALUE=DATE-TIME:20260120T163225Z
LOCATION:Köln
URL:https://www.ebm-netzwerk.de/de/veranstaltungen/termine/information-ret
 rieval-meeting-irm-2026
END:VEVENT
END:VCALENDAR
