BEGIN:VCALENDAR
VERSION:2.0
PRODID:-//Plone.org//NONSGML plone.app.event//EN
X-WR-TIMEZONE:Europe/Berlin
BEGIN:VEVENT
SUMMARY:Gesundheit gestalten - Gemeinsam gesellschaftlichen Herausforderun
 gen begegnen
DTSTART;VALUE=DATE:20260930
DTEND;VALUE=DATE:20261003
DTSTAMP;VALUE=DATE-TIME:20260424T144003Z
UID:b757c03fff864e1c8a17e47a8cd6b2d1@127.0.0.1:8202
CONTACT:Kongress-Gesundheit2026@intercom-kongresse.de\, +49 351 32017370\,
  Kongress-Gesundheit2026@intercom-kongresse.de\, https://kongress-gesundhe
 it-gestalten.de/
CREATED;VALUE=DATE-TIME:20260424T091040Z
DESCRIPTION:Gemeinsamer Jahreskongress der Fachgesellschaften DEGAM\, DGSM
 P\, DGMS und EbM-Netzwerk
LAST-MODIFIED;VALUE=DATE-TIME:20260424T091447Z
LOCATION:Göttingen
URL:https://www.ebm-netzwerk.de/de/veranstaltungen/termine/jahrestagung-20
 26-gesundheit-gestalten
END:VEVENT
END:VCALENDAR
