BEGIN:VCALENDAR
VERSION:2.0
PRODID:-//Plone.org//NONSGML plone.app.event//EN
X-WR-TIMEZONE:Europe/Berlin
BEGIN:VEVENT
SUMMARY:JBI Comprehensive Systematic Review Training Program
DTSTART;VALUE=DATE:20241104
DTEND;VALUE=DATE:20241109
DTSTAMP;VALUE=DATE-TIME:20260421T110252Z
UID:82ded2f8b7f444078a50ad2f9b96127f@127.0.0.1:8201
ATTENDEE;CN="Mitarbeiter*innen der MHB, Ärzteschaft, Mitarbeiter*innen de
 r Kliniken, Studierende";ROLE=REQ-PARTICIPANT:Mitarbeiter*innen der MHB, 
 Ärzteschaft, Mitarbeiter*innen der Kliniken, Studierende
ATTENDEE;CN=;ROLE=REQ-PARTICIPANT:
CONTACT:Dr. Robert Prill\, +493381 - 411940\, robert.prill@mhb-fontane.de\
 , https://www.mhb-fontane.de/de/veranstaltungsdetails?id=653
CREATED;VALUE=DATE-TIME:20240718T150016Z
DESCRIPTION:The five-day Program prepares researchers and clinicians to de
 velop\, conduct and report robust\, high quality systematic reviews.
LAST-MODIFIED;VALUE=DATE-TIME:20240722T151507Z
LOCATION:Brandenburg an der Havel
URL:https://www.ebm-netzwerk.de/de/veranstaltungen/termine/jbi-comprehensi
 ve-systematic-review-training-program
END:VEVENT
END:VCALENDAR
