BEGIN:VCALENDAR
VERSION:2.0
PRODID:-//Plone.org//NONSGML plone.app.event//EN
X-WR-TIMEZONE:Europe/Berlin
BEGIN:VEVENT
SUMMARY:Journal Club der AG "Klimawandel und Gesundheit"
DTSTART;TZID=Europe/Berlin;VALUE=DATE-TIME:20251209T150000
DTEND;TZID=Europe/Berlin;VALUE=DATE-TIME:20251209T163000
DTSTAMP;VALUE=DATE-TIME:20260420T104737Z
UID:cf1b184e401e4f00bccb1adcf9325ddb@127.0.0.1:8202
CONTACT:kontakt@ebm-netzwerk.de\, 030 30833660\, kontakt@ebm-netzwerk.de
CREATED;VALUE=DATE-TIME:20240929T122907Z
DESCRIPTION:Die AG Klimawandel & Gesundheit des EbM-Netzwerks veranstaltet
  vier Mal im Jahr einen Journal Club zu einem inhaltlichen und/oder method
 ischen Thema zu Klimawandel und Gesundheit. Die Gestaltung des Journal Clu
 bs erfolgt durch Mitglieder der AG.
LAST-MODIFIED;VALUE=DATE-TIME:20251128T064231Z
LOCATION:Online
URL:https://www.ebm-netzwerk.de/de/veranstaltungen/termine/online-journal-
 club-ag-klimawandel-4-2025
END:VEVENT
BEGIN:VTIMEZONE
TZID:Europe/Berlin
X-LIC-LOCATION:Europe/Berlin
BEGIN:STANDARD
DTSTART;VALUE=DATE-TIME:20251026T020000
TZNAME:CET
TZOFFSETFROM:+0200
TZOFFSETTO:+0100
END:STANDARD
END:VTIMEZONE
END:VCALENDAR
