BEGIN:VCALENDAR
VERSION:2.0
PRODID:-//Plone.org//NONSGML plone.app.event//EN
X-WR-TIMEZONE:Europe/Berlin
BEGIN:VEVENT
SUMMARY:Online Teaching Club: "arriba im Seminar –  Entscheidungshilfen 
 in der allgemeinmedizinischen Lehre am Beispiel der FAU"
DTSTART;TZID=Europe/Berlin;VALUE=DATE-TIME:20260427T160000
DTEND;TZID=Europe/Berlin;VALUE=DATE-TIME:20260427T170000
DTSTAMP;VALUE=DATE-TIME:20260423T013450Z
UID:c3766c1556ac401981f0578a8163b573@127.0.0.1:8202
CONTACT:Maria Noftz\, maria.noftz@uksh.de
CREATED;VALUE=DATE-TIME:20240929T122907Z
DESCRIPTION:Der Teaching Club geht der Frage nach\, wie die nächste Gener
 ation von Ärzt:innen darauf vorbereiten werden kann\, präferenzsensitive
  Entscheidungen sicher\, transparent und patientenzentriert zu treffen.
LAST-MODIFIED;VALUE=DATE-TIME:20260420T113957Z
LOCATION:Online
URL:https://www.ebm-netzwerk.de/de/veranstaltungen/termine/online-teaching
 -club-2026-arriba
END:VEVENT
BEGIN:VTIMEZONE
TZID:Europe/Berlin
X-LIC-LOCATION:Europe/Berlin
BEGIN:DAYLIGHT
DTSTART;VALUE=DATE-TIME:20260329T030000
TZNAME:CEST
TZOFFSETFROM:+0100
TZOFFSETTO:+0200
END:DAYLIGHT
END:VTIMEZONE
END:VCALENDAR
