BEGIN:VCALENDAR
VERSION:2.0
PRODID:-//Plone.org//NONSGML plone.app.event//EN
X-WR-TIMEZONE:Europe/Berlin
BEGIN:VEVENT
SUMMARY:RCTs kritisch bewerten RoB 2
DTSTART;TZID=Europe/Berlin;VALUE=DATE-TIME:20261109T090000
DTEND;TZID=Europe/Berlin;VALUE=DATE-TIME:20261109T160000
DTSTAMP;VALUE=DATE-TIME:20260422T150835Z
UID:4e0352315fa64d91a68f648ab197b2b5@127.0.0.1:8202
CONTACT:workshops@cochrane.de\, workshops@cochrane.de\, https://app.guesto
 o.de/public/event/a1d2ec40-3247-4d17-83f5-99ce4dd8e922?lang=de
CREATED;VALUE=DATE-TIME:20250221T155933Z
DESCRIPTION:Übungs-Webinar
LAST-MODIFIED;VALUE=DATE-TIME:20250927T161357Z
LOCATION:Online-Workshop
URL:https://www.ebm-netzwerk.de/de/veranstaltungen/termine/rcts-kritisch-b
 ewerten-rob-2-2025
END:VEVENT
BEGIN:VTIMEZONE
TZID:Europe/Berlin
X-LIC-LOCATION:Europe/Berlin
BEGIN:STANDARD
DTSTART;VALUE=DATE-TIME:20261025T020000
TZNAME:CET
TZOFFSETFROM:+0200
TZOFFSETTO:+0100
END:STANDARD
END:VTIMEZONE
END:VCALENDAR
