BEGIN:VCALENDAR
VERSION:2.0
PRODID:-//Plone.org//NONSGML plone.app.event//EN
X-WR-TIMEZONE:Europe/Berlin
BEGIN:VEVENT
SUMMARY:Scientific Reporting and Writing
DTSTART;TZID=Europe/Berlin;VALUE=DATE-TIME:20251023T090000
DTEND;TZID=Europe/Berlin;VALUE=DATE-TIME:20251025T100000
DTSTAMP;VALUE=DATE-TIME:20260419T152642Z
UID:2e705891a68e4c27864f84f20570406d@127.0.0.1:8201
CONTACT:htads@umit-tirol.at\, +43 50 8648 3955\, htads@umit-tirol.at\, htt
 ps://www.umit-tirol.at/page.cfm?vpath=departments/public_health/htads-cont
 inuing-education-program/scientific-reporting-and-writing
CREATED;VALUE=DATE-TIME:20250820T073649Z
DESCRIPTION:3-Day Certified University Course
LAST-MODIFIED;VALUE=DATE-TIME:20250820T073922Z
LOCATION:Hall i.T.
URL:https://www.ebm-netzwerk.de/de/veranstaltungen/termine/scientific-repo
 rting-and-writing-2025
END:VEVENT
BEGIN:VTIMEZONE
TZID:Europe/Berlin
X-LIC-LOCATION:Europe/Berlin
BEGIN:DAYLIGHT
DTSTART;VALUE=DATE-TIME:20250330T030000
TZNAME:CEST
TZOFFSETFROM:+0100
TZOFFSETTO:+0200
END:DAYLIGHT
END:VTIMEZONE
END:VCALENDAR
