BEGIN:VCALENDAR
VERSION:2.0
PRODID:-//Plone.org//NONSGML plone.app.event//EN
X-WR-TIMEZONE:Europe/Berlin
BEGIN:VEVENT
SUMMARY:Studierendentag beim EbM-Kongress
DTSTART;VALUE=DATE:20240313
DTEND;VALUE=DATE:20240314
DTSTAMP;VALUE=DATE-TIME:20260420T104238Z
UID:433895f7db714d1ba7cb84bb3337a992@127.0.0.1:8201
CONTACT:Geschäftsstelle\, kontakt@ebm-netzwerk.de\, https://www.ebm-kongr
 ess.de/
CREATED;VALUE=DATE-TIME:20231113T163612Z
DESCRIPTION:Du studierst Medizin\, Pflege\, Physiotherapie oder einen ande
 ren Gesundheitsberuf? Du möchtest evidenzbasiert arbeiten und interessier
 st Dich für Wissenschaft? Dann bist Du richtig bei unserem interprofessio
 nellen EbM-Studierendentag!
LAST-MODIFIED;VALUE=DATE-TIME:20240323T054753Z
LOCATION:Berlin
URL:https://www.ebm-netzwerk.de/de/veranstaltungen/termine/studierendentag
 -2024
END:VEVENT
END:VCALENDAR
