BEGIN:VCALENDAR
VERSION:2.0
PRODID:-//Plone.org//NONSGML plone.app.event//EN
X-WR-TIMEZONE:Europe/Berlin
BEGIN:VEVENT
SUMMARY:1. EbM-Forum 2026: Systematische Reviews - mehr Qualität statt Qu
 antität
DTSTART;TZID=Europe/Berlin;VALUE=DATE-TIME:20260309T163000
DTEND;TZID=Europe/Berlin;VALUE=DATE-TIME:20260309T180000
DTSTAMP;VALUE=DATE-TIME:20260425T195717Z
UID:c93ee699e04040dc93e36c8f31294a1d@127.0.0.1:8201
CONTACT:030-30833660\, kontakt@ebm-netzwerk.de
CREATED;VALUE=DATE-TIME:20251215T113406Z
DESCRIPTION:Das EbM-Forum ist eine Online-Veranstaltungsreihe zu aktuellen
  Fragestellungen der Evidenzbasierten Medizin. Es richtet sich sowohl an e
 rfahrene Anwender:innen der EbM als auch an Fachpersonen mit Interesse an 
 evidenzbasierter Praxis und bietet einen verständlichen Zugang zu zentral
 en Themen sowie Raum für Austausch und Diskussion. Das Thema der aktuelle
 n Veranstaltung lautet: Wir brauchen weniger\, dafür bessere systematisch
 e Reviews!
LAST-MODIFIED;VALUE=DATE-TIME:20260317T115848Z
LOCATION:Zoom
URL:https://www.ebm-netzwerk.de/de/veranstaltungen/termine/systematische-r
 eviews-qualitaet-statt-quantitaet
END:VEVENT
BEGIN:VTIMEZONE
TZID:Europe/Berlin
X-LIC-LOCATION:Europe/Berlin
BEGIN:STANDARD
DTSTART;VALUE=DATE-TIME:20251026T020000
TZNAME:CET
TZOFFSETFROM:+0200
TZOFFSETTO:+0100
END:STANDARD
END:VTIMEZONE
END:VCALENDAR
