BEGIN:VCALENDAR
VERSION:2.0
PRODID:-//Plone.org//NONSGML plone.app.event//EN
X-WR-TIMEZONE:Europe/Berlin
BEGIN:VEVENT
SUMMARY:Systematische Übersichtsarbeiten erstellen
DTSTART;VALUE=DATE:20261008
DTEND;VALUE=DATE:20261014
DTSTAMP;VALUE=DATE-TIME:20260423T134629Z
UID:46f9b763c9f84e509cdaebbcc45b4967@127.0.0.1:8202
CONTACT:workshops@cochrane.de\, workshops@cochrane.de\, https://app.guesto
 o.de/public/event/85673ee0-9381-4610-a461-14e92577a92e?lang=de
CREATED;VALUE=DATE-TIME:20250221T152742Z
DESCRIPTION:Von der klinischen Studie zum systematischen Review
LAST-MODIFIED;VALUE=DATE-TIME:20250927T161432Z
LOCATION:Online-Workshop an 4 halben Tagen
URL:https://www.ebm-netzwerk.de/de/veranstaltungen/termine/systematische-u
 ebersichtsarbeiten-erstellen-2026
END:VEVENT
END:VCALENDAR
