BEGIN:VCALENDAR
VERSION:2.0
PRODID:-//Plone.org//NONSGML plone.app.event//EN
X-WR-TIMEZONE:Europe/Berlin
BEGIN:VEVENT
SUMMARY:Systematische Übersichtsarbeiten nutzen
DTSTART;VALUE=DATE:20260504
DTEND;VALUE=DATE:20260508
DTSTAMP;VALUE=DATE-TIME:20260423T134937Z
UID:d3a1eade78344d0f91a44660884c116b@127.0.0.1:8201
CONTACT:workshops@cochrane.de\, workshops@cochrane.de\, https://app.guesto
 o.de/public/event/3fccaab3-8010-42ed-8e63-aea81f3fee92?lang=de
CREATED;VALUE=DATE-TIME:20210527T125413Z
DESCRIPTION:Systematische Übersichtsarbeiten finden\, kritisch bewerten &
  interpretieren
LAST-MODIFIED;VALUE=DATE-TIME:20250927T153804Z
LOCATION:Online-Workshop an 4 halben Tagen
URL:https://www.ebm-netzwerk.de/de/veranstaltungen/termine/systematische-u
 ebersichtsarbeiten-nutzen-2026
END:VEVENT
END:VCALENDAR
