BEGIN:VCALENDAR
VERSION:2.0
PRODID:-//Plone.org//NONSGML plone.app.event//EN
X-WR-TIMEZONE:Europe/Berlin
BEGIN:VEVENT
SUMMARY:Ursache-Wirkung aus Big Data ableiten - geht das?
DTSTART;VALUE=DATE:20211213
DTEND;VALUE=DATE:20211215
DTSTAMP;VALUE=DATE-TIME:20260422T123310Z
UID:a9ded66fcd4846d380324d64a903e053@127.0.0.1:8201
CONTACT:Sandra Hummel\, +43 2732 893-2916\, sandra.hummel@donau-uni.ac.at\
 , https://www.donau-uni.ac.at/de/studium/ursache-wirkung-aus-big-data-able
 iten---wie-geht-das-.html
CREATED;VALUE=DATE-TIME:20210705T151237Z
DESCRIPTION:Gut gemachte experimentelle Studien lassen auf den kausalen Zu
 sammenhang zwischen Ursache und Wirkung schließen. Aber wie sieht es aus 
 für Daten aus Beobachtungsstudien\, Registerdatenbanken\, Versicherungsda
 tenbanken\, sogenannten Big Data Analysen? Im Seminar wird auf statistisch
 e Methoden eingegangen\, die versuchen Kausalität in Beobachtungsstudien 
 messbar zu machen (z.B.: Propensity Scoring\, Adaptives Design und Structu
 ral Causality Model).
LAST-MODIFIED;VALUE=DATE-TIME:20210705T151536Z
LOCATION:Donau-Universität Krems\, Österreich (Dual-/Hybridmodus)
URL:https://www.ebm-netzwerk.de/de/veranstaltungen/termine/ursache-wirkung
 -aus-big-data
END:VEVENT
END:VCALENDAR
