BEGIN:VCALENDAR
VERSION:2.0
PRODID:-//Plone.org//NONSGML plone.app.event//EN
X-WR-TIMEZONE:Europe/Berlin
BEGIN:VEVENT
SUMMARY:Wissenschaftskompetenzen lehren und prüfen
DTSTART;VALUE=DATE:20191122
DTEND;VALUE=DATE:20191124
DTSTAMP;VALUE=DATE-TIME:20260419T172915Z
UID:7d3af4edfe6646aaa67f70143c6bb815@127.0.0.1:8201
ATTENDEE;CN="Die Teilnahme an diesem Kursteil setzt Basiswissen in Evidenz
 basierter Medizin oder Anwendungswissen in wissenschaftlichem Arbeiten und
  Interesse an der Lehre voraus. Der Kurs richtet sich an alle gesundheitsn
 ahen Bereiche.";ROLE=REQ-PARTICIPANT:Die Teilnahme an diesem Kursteil setz
 t Basiswissen in Evidenzbasierter Medizin oder Anwendungswissen in wissens
 chaftlichem Arbeiten und Interesse an der Lehre voraus. Der Kurs richtet s
 ich an alle gesundheitsnahen Bereiche.
CONTACT:Priv.-Doz. Dr. Tobias Weberschock\, MSc(Epi)\, 069-6301-4908\, off
 ice@ebmfrankfurt.de\, http://www.ebmfrankfurt.de/ttt_didaktikkurs.php
CREATED;VALUE=DATE-TIME:20190822T132357Z
DESCRIPTION:14. Didaktikkurs Evidenzbasierte Medizin Frankfurt (Teil 2 Tra
 in-The-Teacher EbM)
LAST-MODIFIED;VALUE=DATE-TIME:20191114T110547Z
LOCATION:Frankfurt am Main
URL:https://www.ebm-netzwerk.de/de/veranstaltungen/termine/wissenschaftsko
 mpetenzen-lehren-und-pruefen-14-didaktikkurs-evidenzbasierte-medizin-frank
 furt
END:VEVENT
END:VCALENDAR
